BEGIN:VCALENDAR
VERSION:2.0
PRODID:-//eventon.com NONSGML v1.0//EN
CALSCALE:GREGORIAN
METHOD:PUBLISH
BEGIN:VEVENT
UID:69ea17fe269f7
DTSTAMP:20260423T130046Z
DTSTART:20190130T090000Z
DTEND:20190130T170000Z
LOCATION:Université Saint-Louis boulevard du Jardin Botanique\,  43
SUMMARY:Colloque RBDH - A qui appartient Bruxelles ? Pour des politiques de logement anti-spéculatives
DESCRIPTION:Une journée de réflexion sur notre façon de gérer le sol et
  d’habiter la ville. Un souffle d’inspiration pour rendre le logement a
 ccessible à toutes et tous durablement. Au programme : • Les enjeux du l
 ogement : analyse des politiques publiques et remises en perspective. • M
 écanismes anti-spéculatifs : présentation[..]\nhttps://www.ama.be/events
 /colloque-rbdh-a-qui-appartient-bruxelles-pour-des-politiques-de-logement-a
 nti-speculatives/
URL:https://www.ama.be/events/colloque-rbdh-a-qui-appartient-bruxelles-pour-des-politiques-de-logement-anti-speculatives/
END:VEVENT
END:VCALENDAR