BEGIN:VCALENDAR
VERSION:2.0
PRODID:-//eventon.com NONSGML v1.0//EN
CALSCALE:GREGORIAN
METHOD:PUBLISH
BEGIN:VEVENT
UID:69e8847ccd1f1
DTSTAMP:20260422T081908Z
DTSTART:20190322T140000Z
DTEND:20190322T220000Z
LOCATION:
SUMMARY:Lancement du rapport "4e Regard sur le Mal-Logement en Europe"
DESCRIPTION:La FEANTSA et la Fondation Abbé Pierre s&rsquo;apprêtent à p
 ublier leur rapport conjoint pour l&rsquo;année 2019 sur le sans-abrisme e
 t le mal-logement en Europe. L&rsquo;évènement de lancement aura lieu le 
 vendredi 22/03 prochain au Comité Economique et Social Européen. Au progr
 amme: 14:00 &#8211; 17:30: Présentation et Discussion La présentation du[
 ..]\nhttps://www.ama.be/events/lancement-du-rapport-4e-regard-sur-le-mal-lo
 gement-en-europe/
URL:https://www.ama.be/events/lancement-du-rapport-4e-regard-sur-le-mal-logement-en-europe/
END:VEVENT
END:VCALENDAR