BEGIN:VCALENDAR
VERSION:2.0
PRODID:-//eventon.com NONSGML v1.0//EN
CALSCALE:GREGORIAN
METHOD:PUBLISH
BEGIN:VEVENT
UID:69e885b045b29
DTSTAMP:20260422T082416Z
DTSTART:20190320T110000Z
DTEND:20190320T130000Z
LOCATION:Muntpunt
SUMMARY:Lancement de la Plateforme numérique "Surviving in Brussels"
DESCRIPTION:Après des mois de travail\,  de collaborations et de rencontre
 s enrichissantes\,  la communauté Surviving a le plaisir de vous inviter l
 e 20 mars 2019 à 11h au lancement officiel de survivinginbrussels.be. Le l
 ancement sera suivi d’une conférence de presse et d’un moment d’éch
 anges et de convivialité autour d&rsquo;une soupe. Survivinginbrussels.be[
 ..]\nhttps://www.ama.be/events/lancement-de-la-plateforme-numerique-survivi
 ng-in-brussels/
URL:https://www.ama.be/events/lancement-de-la-plateforme-numerique-surviving-in-brussels/
END:VEVENT
END:VCALENDAR