BEGIN:VCALENDAR
VERSION:2.0
PRODID:-//eventon.com NONSGML v1.0//EN
CALSCALE:GREGORIAN
METHOD:PUBLISH
BEGIN:VEVENT
UID:69eb2da1b9c75
DTSTAMP:20260424T084521Z
DTSTART:20191125T093000Z
DTEND:20191129T160000Z
LOCATION:
SUMMARY:Semaine du secteur bruxellois de l'aide aux sans-abri
DESCRIPTION:La semaine permet de promouvoir\,  au travers de rencontres et 
 d’échanges de pratiques\,  les contacts entre les institutions d’aide 
 aux personnes sans abri néerlandophones\,  francophones et bicommunautaire
 s\,  mais aussi d’établir des ponts avec des secteurs connexes travailla
 nt avec les mêmes publics ou étant confrontés aux mêmes problématiques
 . Les services bruxellois[..]\nhttps://www.ama.be/events/semaine-du-secteur
 -bruxellois-de-laide-aux-sans-abri-2/
URL:https://www.ama.be/events/semaine-du-secteur-bruxellois-de-laide-aux-sans-abri-2/
END:VEVENT
END:VCALENDAR