BEGIN:VCALENDAR
VERSION:2.0
PRODID:-//eventon.com NONSGML v1.0//EN
CALSCALE:GREGORIAN
METHOD:PUBLISH
BEGIN:VEVENT
UID:69ea7167dbde7
DTSTAMP:20260423T192215Z
DTSTART:20200318T100000Z
DTEND:20200318T130000Z
LOCATION:AMA - Fédération des maisons d&#039;accueil et des services d&#039;aide aux sans-abri 13 Rue des Champs Elysées - 1050 Bruxelles
SUMMARY:GT Questions patronales
DESCRIPTION:Groupe de travail à destination des directions et coordination
 s des services membres.\nhttps://www.ama.be/events/gt-questions-patronales-
 7/
URL:https://www.ama.be/events/gt-questions-patronales-7/
END:VEVENT
END:VCALENDAR