BEGIN:VCALENDAR
VERSION:2.0
PRODID:-//eventon.com NONSGML v1.0//EN
CALSCALE:GREGORIAN
METHOD:PUBLISH
BEGIN:VEVENT
UID:69ead5b81cef2
DTSTAMP:20260424T023016Z
DTSTART:20200420T140000Z
DTEND:20200420T163000Z
LOCATION:AMA - Fédération des maisons d&#039;accueil et des services d&#039;aide aux sans-abri 13 Rue des Champs Elysées - 1050 Bruxelles
SUMMARY:GT Hiver 86.400 (Reporté à une date ultérieure)
DESCRIPTION:GT Hiver 86.400 (Reporté à une date ultérieure)\nhttps://www
 .ama.be/events/gt-hiver-86-400-5/
URL:https://www.ama.be/events/gt-hiver-86-400-5/
END:VEVENT
END:VCALENDAR