BEGIN:VCALENDAR
VERSION:2.0
PRODID:-//eventon.com NONSGML v1.0//EN
CALSCALE:GREGORIAN
METHOD:PUBLISH
BEGIN:VEVENT
UID:69e8894da3711
DTSTAMP:20260422T083941Z
DTSTART:20200423T093000Z
DTEND:20200423T123000Z
LOCATION:
SUMMARY:GT "Violences Conjugales" (Reporté à une date ultérieure)
DESCRIPTION:GT "Violences Conjugales" (Reporté à une date ultérieure)\nh
 ttps://www.ama.be/events/gt-violences-conjugales-4/
URL:https://www.ama.be/events/gt-violences-conjugales-4/
END:VEVENT
END:VCALENDAR