BEGIN:VCALENDAR
VERSION:2.0
PRODID:-//eventon.com NONSGML v1.0//EN
CALSCALE:GREGORIAN
METHOD:PUBLISH
BEGIN:VEVENT
UID:69e7e2a74bfc7
DTSTAMP:20260421T204839Z
DTSTART:20201001T140000Z
DTEND:20201001T163000Z
LOCATION:
SUMMARY:GT " Service d'accueil de jour - membres bruxellois"
DESCRIPTION:GT " Service d'accueil de jour - membres bruxellois"\nhttps://w
 ww.ama.be/events/gt-service-daccueil-de-jour/
URL:https://www.ama.be/events/gt-service-daccueil-de-jour/
END:VEVENT
END:VCALENDAR