BEGIN:VCALENDAR
VERSION:2.0
PRODID:-//eventon.com NONSGML v1.0//EN
CALSCALE:GREGORIAN
METHOD:PUBLISH
BEGIN:VEVENT
UID:69e7cc20502e8
DTSTAMP:20260421T191232Z
DTSTART:20201002T140000Z
DTEND:20201002T153000Z
LOCATION:
SUMMARY:GT " Maison d'accueil COCOM "
DESCRIPTION:GT " Maison d'accueil COCOM "\nhttps://www.ama.be/events/gt-mai
 son-daccueil-cocom/
URL:https://www.ama.be/events/gt-maison-daccueil-cocom/
END:VEVENT
END:VCALENDAR