BEGIN:VCALENDAR
VERSION:2.0
PRODID:-//eventon.com NONSGML v1.0//EN
CALSCALE:GREGORIAN
METHOD:PUBLISH
BEGIN:VEVENT
UID:69e607e0b8fe1
DTSTAMP:20260420T110256Z
DTSTART:20201002T153000Z
DTEND:20201002T163000Z
LOCATION:
SUMMARY:GT " Guidance à domicile "
DESCRIPTION:GT " Guidance à domicile "\nhttps://www.ama.be/events/gt-guida
 nce-a-domicile/
URL:https://www.ama.be/events/gt-guidance-a-domicile/
END:VEVENT
END:VCALENDAR