BEGIN:VCALENDAR
VERSION:2.0
PRODID:-//eventon.com NONSGML v1.0//EN
CALSCALE:GREGORIAN
METHOD:PUBLISH
BEGIN:VEVENT
UID:69e5f1a9a32b7
DTSTAMP:20260420T092809Z
DTSTART:20210112T083000Z
DTEND:20210112T103000Z
LOCATION:
SUMMARY:GT " Services d’accueil de jour wallons " - En vidéo
DESCRIPTION:GT " Services d’accueil de jour wallons " - En vidéo\nhttp
 s://www.ama.be/events/gt-%e2%80%afservices-daccueil-de-jour-wallons-en-vide
 o/
URL:https://www.ama.be/events/gt-%e2%80%afservices-daccueil-de-jour-wallons-en-video/
END:VEVENT
END:VCALENDAR