BEGIN:VCALENDAR
VERSION:2.0
PRODID:-//eventon.com NONSGML v1.0//EN
CALSCALE:GREGORIAN
METHOD:PUBLISH
BEGIN:VEVENT
UID:69e88dd11f65b
DTSTAMP:20260422T085857Z
DTSTART:20221018T203000Z
DTEND:20221018T233000Z
LOCATION:MAison du Quartier Malibran 10 Rue de La Digue - 1050 Bruxelles
SUMMARY:AMA'tinée "Sans papier - sans (cent) solution(s) ?
DESCRIPTION:AMA'tinée "Sans papier - sans (cent) solution(s) ?\nhttps://ww
 w.ama.be/events/amatinee-sans-papier-sans-cent-solutions/
URL:https://www.ama.be/events/amatinee-sans-papier-sans-cent-solutions/
END:VEVENT
END:VCALENDAR