BEGIN:VCALENDAR
VERSION:2.0
PRODID:-//eventon.com NONSGML v1.0//EN
CALSCALE:GREGORIAN
METHOD:PUBLISH
BEGIN:VEVENT
UID:69ed4acd2c4df
DTSTAMP:20260425T231421Z
DTSTART:20221117T083000Z
DTEND:20221117T113000Z
LOCATION:MAison du Quartier Malibran 10 Rue de La Digue - 1050 Bruxelles
SUMMARY:Formation - Actualisation de la réglementation sectorielle COCOM
DESCRIPTION:Formation - Actualisation de la réglementation sectorielle COC
 OM\nhttps://www.ama.be/events/formation-actualisation-de-la-reglementation-
 sectorielle-cocom/
URL:https://www.ama.be/events/formation-actualisation-de-la-reglementation-sectorielle-cocom/
END:VEVENT
END:VCALENDAR