BEGIN:VCALENDAR
VERSION:2.0
PRODID:-//eventon.com NONSGML v1.0//EN
CALSCALE:GREGORIAN
METHOD:PUBLISH
BEGIN:VEVENT
UID:69eb2006870cd
DTSTAMP:20260424T074718Z
DTSTART:20221202T203000Z
DTEND:20221202T233000Z
LOCATION:SST Secrétariat Social Quai Andreï Sakharov 8\,  7500 Tournai
SUMMARY:AMA'tinée "Ado et sans-abri\,  je vais où?"
DESCRIPTION:AMA'tinée "Ado et sans-abri\,  je vais où?"\nhttps://www.ama.
 be/events/amatinee-ado-et-sans-abri-je-vais-ou/
URL:https://www.ama.be/events/amatinee-ado-et-sans-abri-je-vais-ou/
END:VEVENT
END:VCALENDAR