BEGIN:VCALENDAR
VERSION:2.0
PRODID:-//eventon.com NONSGML v1.0//EN
CALSCALE:GREGORIAN
METHOD:PUBLISH
BEGIN:VEVENT
UID:69eb38785734a
DTSTAMP:20260424T093136Z
DTSTART:20221209T203000Z
DTEND:20221210T033000Z
LOCATION:MAison du Quartier Malibran 10 Rue de La Digue - 1050 Bruxelles
SUMMARY:Formation Nouveaux Travailleurs (Bruxelles)
DESCRIPTION:Formation Nouveaux Travailleurs (Bruxelles)\nhttps://www.ama.be
 /events/formation-nouveaux-travailleurs-bruxelles-3/
URL:https://www.ama.be/events/formation-nouveaux-travailleurs-bruxelles-3/
END:VEVENT
END:VCALENDAR