BEGIN:VCALENDAR
VERSION:2.0
PRODID:-//eventon.com NONSGML v1.0//EN
CALSCALE:GREGORIAN
METHOD:PUBLISH
BEGIN:VEVENT
UID:69eb4e50912da
DTSTAMP:20260424T110448Z
DTSTART:20221219T083000Z
DTEND:20221219T113000Z
LOCATION:AMA - Fédération des maisons d&#039;accueil et des services d&#039;aide aux sans-abri 13 Rue des Champs Elysées - 1050 Bruxelles
SUMMARY:GT "Participation"
DESCRIPTION:GT "Participation"\nhttps://www.ama.be/events/gt-participation-
 5/
URL:https://www.ama.be/events/gt-participation-5/
END:VEVENT
END:VCALENDAR