BEGIN:VCALENDAR
VERSION:2.0
PRODID:-//eventon.com NONSGML v1.0//EN
CALSCALE:GREGORIAN
METHOD:PUBLISH
BEGIN:VEVENT
UID:69e9362513c73
DTSTAMP:20260422T205709Z
DTSTART:20230126T130000Z
DTEND:20230126T153000Z
LOCATION:AMA - Fédération des maisons d&#039;accueil et des services d&#039;aide aux sans-abri 13 Rue des Champs Elysées - 1050 Bruxelles
SUMMARY:GT « VCIF/PARENTALITÉ »
DESCRIPTION:GT « VCIF/PARENTALITÉ »\nhttps://www.ama.be/events/gt-vcif-p
 arentalite/
URL:https://www.ama.be/events/gt-vcif-parentalite/
END:VEVENT
END:VCALENDAR