BEGIN:VCALENDAR
VERSION:2.0
PRODID:-//eventon.com NONSGML v1.0//EN
CALSCALE:GREGORIAN
METHOD:PUBLISH
BEGIN:VEVENT
UID:69e94ab0434e7
DTSTAMP:20260422T222448Z
DTSTART:20230131T203000Z
DTEND:20230131T233000Z
LOCATION:AMA - Fédération des maisons d&#039;accueil et des services d&#039;aide aux sans-abri 13 Rue des Champs Elysées - 1050 Bruxelles
SUMMARY:CONSEIL D’ADMINISTRATION
DESCRIPTION:CONSEIL D’ADMINISTRATION\nhttps://www.ama.be/events/conseil-d
 administration-6/
URL:https://www.ama.be/events/conseil-dadministration-6/
END:VEVENT
END:VCALENDAR