BEGIN:VCALENDAR
VERSION:2.0
PRODID:-//eventon.com NONSGML v1.0//EN
CALSCALE:GREGORIAN
METHOD:PUBLISH
BEGIN:VEVENT
UID:69e6be81ac3dd
DTSTAMP:20260421T000209Z
DTSTART:20230202T083000Z
DTEND:20230202T113000Z
LOCATION:AMA - Fédération des maisons d&#039;accueil et des services d&#039;aide aux sans-abri 13 Rue des Champs Elysées - 1050 Bruxelles
SUMMARY:GT « Mémorandum Travail de rue et maraude » Bxl
DESCRIPTION:GT « Mémorandum Travail de rue et maraude » Bxl\nhttps://www
 .ama.be/events/gt-memorandum-travail-de-rue-et-maraude-bxl/
URL:https://www.ama.be/events/gt-memorandum-travail-de-rue-et-maraude-bxl/
END:VEVENT
END:VCALENDAR