BEGIN:VCALENDAR
VERSION:2.0
PRODID:-//eventon.com NONSGML v1.0//EN
CALSCALE:GREGORIAN
METHOD:PUBLISH
BEGIN:VEVENT
UID:69e8b6f46c311
DTSTAMP:20260422T115428Z
DTSTART:20230602T073000Z
DTEND:20230602T103000Z
LOCATION:AMA - Fédération des maisons d&#039;accueil et des services d&#039;aide aux sans-abri 13 Rue des Champs Elysées - 1050 Bruxelles
SUMMARY:GT « Mémorandum Travail de rue et maraude » Bxl
DESCRIPTION:GT « Mémorandum Travail de rue et maraude » Bxl\nhttps://www
 .ama.be/events/gt-memorandum-travail-de-rue-et-maraude-bxl-2/
URL:https://www.ama.be/events/gt-memorandum-travail-de-rue-et-maraude-bxl-2/
END:VEVENT
END:VCALENDAR