BEGIN:VCALENDAR
VERSION:2.0
PRODID:-//eventon.com NONSGML v1.0//EN
CALSCALE:GREGORIAN
METHOD:PUBLISH
BEGIN:VEVENT
UID:69e696a5edcb2
DTSTAMP:20260420T211205Z
DTSTART:20231016T203000Z
DTEND:20231016T233000Z
LOCATION:Auberge de jeunesse de Mons Rampe du Château 2\,  7000 Mons
SUMMARY:AMA'tinée "la parentalité\,  vaste sujet !"
DESCRIPTION:AMA'tinée "la parentalité\,  vaste sujet !"\nhttps://www.ama.
 be/events/amatinee-la-parentalite-vaste-sujet/
URL:https://www.ama.be/events/amatinee-la-parentalite-vaste-sujet/
END:VEVENT
END:VCALENDAR