BEGIN:VCALENDAR
VERSION:2.0
PRODID:-//eventon.com NONSGML v1.0//EN
CALSCALE:GREGORIAN
METHOD:PUBLISH
BEGIN:VEVENT
UID:69ecd1204d2a5
DTSTAMP:20260425T143512Z
DTSTART:20240119T203000Z
DTEND:20240119T233000Z
LOCATION:Les Petits Riens Rue Américaine 101 - 1050 Ixelles
SUMMARY:Groupe de travail - Membres COCOF
DESCRIPTION:Groupe de travail - Membres COCOF\nhttps://www.ama.be/events/gr
 oupe-de-travail-membres-cocof/
URL:https://www.ama.be/events/groupe-de-travail-membres-cocof/
END:VEVENT
END:VCALENDAR