BEGIN:VCALENDAR
VERSION:2.0
PRODID:-//eventon.com NONSGML v1.0//EN
CALSCALE:GREGORIAN
METHOD:PUBLISH
BEGIN:VEVENT
UID:69e6d8b5d6ace
DTSTAMP:20260421T015357Z
DTSTART:20250905T073000Z
DTEND:20250905T110000Z
LOCATION:
SUMMARY:Conseil d'administration de l'AMA
DESCRIPTION:Conseil d'administration de l'AMA\nhttps://www.ama.be/events/co
 nseil-dadministration-de-lama-20/
URL:https://www.ama.be/events/conseil-dadministration-de-lama-20/
END:VEVENT
END:VCALENDAR