BEGIN:VCALENDAR
VERSION:2.0
PRODID:-//eventon.com NONSGML v1.0//EN
CALSCALE:GREGORIAN
METHOD:PUBLISH
BEGIN:VEVENT
UID:69ec1a7f9fb7e
DTSTAMP:20260425T013559Z
DTSTART:20250911T073000Z
DTEND:20250911T103000Z
LOCATION:
SUMMARY:PLÉNIÈRE DES MEMBRES WALLONS
DESCRIPTION:PLÉNIÈRE DES MEMBRES WALLONS\nhttps://www.ama.be/events/pleni
 ere-des-membres-wallons-22/
URL:https://www.ama.be/events/pleniere-des-membres-wallons-22/
END:VEVENT
END:VCALENDAR