BEGIN:VCALENDAR
VERSION:2.0
PRODID:-//eventon.com NONSGML v1.0//EN
CALSCALE:GREGORIAN
METHOD:PUBLISH
BEGIN:VEVENT
UID:69ebee75648e2
DTSTAMP:20260424T222805Z
DTSTART:20180318T080000Z
DTEND:20180318T180000Z
LOCATION:Maison d&#039;accueil Saint-Paul Rue Saint Paul 17 - 7000 Mons
SUMMARY:La Maison d’Accueil Saint-Paul organise une marche ADEPS
DESCRIPTION:Marche ADEPS point vert &nbsp;&#8211; Boucle de 5\,  10\,  15 e
 t 20 KM au départ de la maison d’accueil Saint Paul\nhttps://www.ama.be/
 events/la-maison-daccueil-saint-paul-organise-une-marche-adeps/
URL:https://www.ama.be/events/la-maison-daccueil-saint-paul-organise-une-marche-adeps/
END:VEVENT
END:VCALENDAR