BEGIN:VCALENDAR
VERSION:2.0
PRODID:-//eventon.com NONSGML v1.0//EN
CALSCALE:GREGORIAN
METHOD:PUBLISH
BEGIN:VEVENT
UID:69eb2ed6320c9
DTSTAMP:20260424T085030Z
DTSTART:20180512T190000Z
DTEND:20180512T230000Z
LOCATION:Cafétéria de la salle du BW à Nivelles Rue de l'Eglise 2 à Baulers
SUMMARY:Souper au profit de la maison d'accueil les 4 Vents - Nivelles
DESCRIPTION:Le BW Nivelles\,  club de volley nous soutenant régulièrement
 \,  a décidé d&rsquo;organiser le samedi 12 mai 2018 un après-midi sport
 if et une avant soirée gourmande dont les bénéfices seront reversés au 
 profit de notre association. L&rsquo;après-midi\,  un tournoi de volley po
 ur équipes amateurs et loisirs sera organisé. 8 équipes s&rsquo;affronte
 ront[..]\nhttps://www.ama.be/events/souper-au-profit-de-la-maison-daccueil-
 les-4-vents-nivelles/
URL:https://www.ama.be/events/souper-au-profit-de-la-maison-daccueil-les-4-vents-nivelles/
END:VEVENT
END:VCALENDAR